BEGIN:VCALENDAR
VERSION:2.0
PRODID:-//American Academy of Pediatrics California - ECPv6.15.20//NONSGML v1.0//EN
CALSCALE:GREGORIAN
METHOD:PUBLISH
X-WR-CALNAME:American Academy of Pediatrics California
X-ORIGINAL-URL:https://aap-ca.org
X-WR-CALDESC:Events for American Academy of Pediatrics California
REFRESH-INTERVAL;VALUE=DURATION:PT1H
X-Robots-Tag:noindex
X-PUBLISHED-TTL:PT1H
BEGIN:VTIMEZONE
TZID:America/Los_Angeles
BEGIN:DAYLIGHT
TZOFFSETFROM:-0800
TZOFFSETTO:-0700
TZNAME:PDT
DTSTART:20250309T100000
END:DAYLIGHT
BEGIN:STANDARD
TZOFFSETFROM:-0700
TZOFFSETTO:-0800
TZNAME:PST
DTSTART:20251102T090000
END:STANDARD
BEGIN:DAYLIGHT
TZOFFSETFROM:-0800
TZOFFSETTO:-0700
TZNAME:PDT
DTSTART:20260308T100000
END:DAYLIGHT
BEGIN:STANDARD
TZOFFSETFROM:-0700
TZOFFSETTO:-0800
TZNAME:PST
DTSTART:20261101T090000
END:STANDARD
BEGIN:DAYLIGHT
TZOFFSETFROM:-0800
TZOFFSETTO:-0700
TZNAME:PDT
DTSTART:20270314T100000
END:DAYLIGHT
BEGIN:STANDARD
TZOFFSETFROM:-0700
TZOFFSETTO:-0800
TZNAME:PST
DTSTART:20271107T090000
END:STANDARD
BEGIN:DAYLIGHT
TZOFFSETFROM:-0800
TZOFFSETTO:-0700
TZNAME:PDT
DTSTART:20280312T100000
END:DAYLIGHT
BEGIN:STANDARD
TZOFFSETFROM:-0700
TZOFFSETTO:-0800
TZNAME:PST
DTSTART:20281105T090000
END:STANDARD
END:VTIMEZONE
BEGIN:VEVENT
DTSTART;VALUE=DATE:20261113
DTEND;VALUE=DATE:20261116
DTSTAMP:20260424T060923
CREATED:20230708T230631Z
LAST-MODIFIED:20260202T232335Z
UID:246222-1794528000-1794787199@aap-ca.org
SUMMARY:47th Annual Las Vegas Seminars
DESCRIPTION:The Annual Las Vegas Seminars will be held this year at the exciting Caesars Palace Hotel and Casino in Las Vegas. The usual attendance at our conference is between 500-600 practitioners representing Pediatricians\, Family Practitioners and Allied Health Professionals from all parts of the United States and some foreign countries. \nWe’re excited for your return to the comradery of combining in-person interactions with friends\, colleagues\, and faculty with continuing medical education\, and we are excited to welcome you back! \n47th Annual Las Vegas SeminarsDate: November 13 – 15\, 2026Caesars Palace Hotel\, Las Vegas
URL:https://aap-ca.org/annual-conference/
LOCATION:Caesars Palace Hotel\, 3570 S Las Vegas Blvd\, Las Vegas\, NV\, 89109
ATTACH;FMTTYPE=image/jpeg:https://aap-ca.org/wp-content/uploads/Las-Vegas-Strip-Banner.jpg
ORGANIZER;CN="AAP-CA":MAILTO:meetings@aap-ca.org
END:VEVENT
BEGIN:VEVENT
DTSTART;VALUE=DATE:20271112
DTEND;VALUE=DATE:20271115
DTSTAMP:20260424T060923
CREATED:20230708T230828Z
LAST-MODIFIED:20230708T230833Z
UID:246226-1825977600-1826236799@aap-ca.org
SUMMARY:48th Annual Las Vegas Seminars
DESCRIPTION:The Annual Las Vegas Seminars will be held this year at the exciting Caesars Palace Hotel and Casino in Las Vegas. The usual attendance at our conference is between 500-600 practitioners representing Pediatricians\, Family Practitioners and Allied Health Professionals from all parts of the United States and some foreign countries. \nWe’re excited for your return to the comradery of combining in-person interactions with friends\, colleagues\, and faculty with continuing medical education\, and we are excited to welcome you back! \n48th Annual Las Vegas SeminarsDate: November 12 – 14\, 2027Caesars Palace Hotel\, Las Vegas
URL:https://aap-ca.org/event/48th-annual-las-vegas-seminars/
LOCATION:Caesars Palace Hotel\, 3570 S Las Vegas Blvd\, Las Vegas\, NV\, 89109
ATTACH;FMTTYPE=image/jpeg:https://aap-ca.org/wp-content/uploads/Las-Vegas-Strip-Banner.jpg
ORGANIZER;CN="AAP-CA":MAILTO:meetings@aap-ca.org
END:VEVENT
END:VCALENDAR